BEGIN:VCALENDAR
VERSION:2.0
PRODID:-//Tukios.com/
BEGIN:VEVENT
UID:4bcbcf3c-9f6a-432f-b476-a25b8bf0a8c1@obituaries.montlawn.com
DTSTAMP:20260423T021742Z
DTSTART:20260424T160000Z
DTEND:20260424T170000Z
SUMMARY:Graveside Service
DESCRIPTION:
URL:https://obituaries.montlawn.com/obituaries/ann-campbell-savage
LOCATION: 2911 S Wilmington St  Raleigh NC 27603
GEO:35.7407724;-78.6480567
END:VEVENT
END:VCALENDAR