BEGIN:VCALENDAR
VERSION:2.0
PRODID:-//Tukios.com/
BEGIN:VEVENT
UID:ddc09441-de75-47c5-96a1-b359f5b78236@obituaries.montlawn.com
DTSTAMP:20260426T003903Z
DTSTART:20260426T180000Z
DTEND:20260426T200000Z
SUMMARY:Viewing
DESCRIPTION:
URL:https://obituaries.montlawn.com/obituaries/citlally-cardenas
LOCATION: 2911 S Wilmington St  Raleigh NC 27603
GEO:35.7407724;-78.6480567
END:VEVENT
END:VCALENDAR