BEGIN:VCALENDAR
VERSION:2.0
PRODID:-//Tukios.com/
BEGIN:VEVENT
UID:17ab2aae-dcfa-41fe-b678-82fbd25453e0@obituaries.montlawn.com
DTSTAMP:20260426T003914Z
DTSTART:20260427T160000Z
DTEND:20260427T170000Z
SUMMARY:Mass
DESCRIPTION:
URL:https://obituaries.montlawn.com/obituaries/citlally-cardenas
LOCATION: 715 Nazareth St  Raleigh NC 27606
GEO:35.7773467;-78.6699921
END:VEVENT
END:VCALENDAR