BEGIN:VCALENDAR
VERSION:2.0
PRODID:-//Tukios.com/
BEGIN:VEVENT
UID:c6a671e3-a2c9-4549-81fe-46d3fb02ab59@obituaries.montlawn.com
DTSTAMP:20260426T003816Z
DTSTART:20260427T180000Z
DTEND:20260427T190000Z
SUMMARY:Interment
DESCRIPTION:
URL:https://obituaries.montlawn.com/obituaries/citlally-cardenas
LOCATION: 2900 South Wilmington Street  Raleigh NC 27603
GEO:35.741467;-78.6493809
END:VEVENT
END:VCALENDAR