BEGIN:VCALENDAR
VERSION:2.0
PRODID:-//Tukios.com/
BEGIN:VEVENT
UID:3d3b8d75-966c-4c67-acec-1e11fb537cd2@obituaries.montlawn.com
DTSTAMP:20260421T172526Z
DTSTART:20260424T160000Z
DTEND:20260424T170000Z
SUMMARY:Visitation
DESCRIPTION:
URL:https://obituaries.montlawn.com/obituaries/ted-silver
LOCATION: 2911 S Wilmington St  Raleigh NC 27603
GEO:35.7407724;-78.6480567
END:VEVENT
END:VCALENDAR