BEGIN:VCALENDAR
VERSION:2.0
PRODID:-//Tukios.com/
BEGIN:VEVENT
UID:2beb39df-fc17-468c-ba13-e2e33f673fad@obituaries.montlawn.com
DTSTAMP:20260421T172143Z
DTSTART:20260424T170000Z
DTEND:20260424T180000Z
SUMMARY:Funeral Service
DESCRIPTION:
URL:https://obituaries.montlawn.com/obituaries/ted-silver
LOCATION: 2911 S Wilmington St  Raleigh NC 27603
GEO:35.7407724;-78.6480567
END:VEVENT
END:VCALENDAR