BEGIN:VCALENDAR
VERSION:2.0
PRODID:-//Tukios.com/
BEGIN:VEVENT
UID:e9e481b1-ef8a-453e-b7e7-960b9faa472f@obituaries.montlawn.com
DTSTAMP:20260421T172230Z
DTSTART:20260424T180000Z
DTEND:20260424T181500Z
SUMMARY:Burial
DESCRIPTION:
URL:https://obituaries.montlawn.com/obituaries/ted-silver
LOCATION: 2911 S Wilmington St  Raleigh NC 27603
GEO:35.7407724;-78.6480567
END:VEVENT
END:VCALENDAR